BEGIN:VCALENDAR
VERSION:2.0
PRODID:-//NJAPZA - ECPv6.13.2.1//NONSGML v1.0//EN
CALSCALE:GREGORIAN
METHOD:PUBLISH
X-WR-CALNAME:NJAPZA
X-ORIGINAL-URL:https://njapza.org
X-WR-CALDESC:Events for NJAPZA
REFRESH-INTERVAL;VALUE=DURATION:PT1H
X-Robots-Tag:noindex
X-PUBLISHED-TTL:PT1H
BEGIN:VTIMEZONE
TZID:America/New_York
BEGIN:DAYLIGHT
TZOFFSETFROM:-0500
TZOFFSETTO:-0400
TZNAME:EDT
DTSTART:20190310T070000
END:DAYLIGHT
BEGIN:STANDARD
TZOFFSETFROM:-0400
TZOFFSETTO:-0500
TZNAME:EST
DTSTART:20191103T060000
END:STANDARD
BEGIN:DAYLIGHT
TZOFFSETFROM:-0500
TZOFFSETTO:-0400
TZNAME:EDT
DTSTART:20200308T070000
END:DAYLIGHT
BEGIN:STANDARD
TZOFFSETFROM:-0400
TZOFFSETTO:-0500
TZNAME:EST
DTSTART:20201101T060000
END:STANDARD
BEGIN:DAYLIGHT
TZOFFSETFROM:-0500
TZOFFSETTO:-0400
TZNAME:EDT
DTSTART:20210314T070000
END:DAYLIGHT
BEGIN:STANDARD
TZOFFSETFROM:-0400
TZOFFSETTO:-0500
TZNAME:EST
DTSTART:20211107T060000
END:STANDARD
BEGIN:DAYLIGHT
TZOFFSETFROM:-0500
TZOFFSETTO:-0400
TZNAME:EDT
DTSTART:20220313T070000
END:DAYLIGHT
BEGIN:STANDARD
TZOFFSETFROM:-0400
TZOFFSETTO:-0500
TZNAME:EST
DTSTART:20221106T060000
END:STANDARD
BEGIN:DAYLIGHT
TZOFFSETFROM:-0500
TZOFFSETTO:-0400
TZNAME:EDT
DTSTART:20230312T070000
END:DAYLIGHT
BEGIN:STANDARD
TZOFFSETFROM:-0400
TZOFFSETTO:-0500
TZNAME:EST
DTSTART:20231105T060000
END:STANDARD
BEGIN:DAYLIGHT
TZOFFSETFROM:-0500
TZOFFSETTO:-0400
TZNAME:EDT
DTSTART:20240310T070000
END:DAYLIGHT
BEGIN:STANDARD
TZOFFSETFROM:-0400
TZOFFSETTO:-0500
TZNAME:EST
DTSTART:20241103T060000
END:STANDARD
BEGIN:DAYLIGHT
TZOFFSETFROM:-0500
TZOFFSETTO:-0400
TZNAME:EDT
DTSTART:20250309T070000
END:DAYLIGHT
BEGIN:STANDARD
TZOFFSETFROM:-0400
TZOFFSETTO:-0500
TZNAME:EST
DTSTART:20251102T060000
END:STANDARD
BEGIN:DAYLIGHT
TZOFFSETFROM:-0500
TZOFFSETTO:-0400
TZNAME:EDT
DTSTART:20260308T070000
END:DAYLIGHT
BEGIN:STANDARD
TZOFFSETFROM:-0400
TZOFFSETTO:-0500
TZNAME:EST
DTSTART:20261101T060000
END:STANDARD
END:VTIMEZONE
BEGIN:VTIMEZONE
TZID:UTC
BEGIN:STANDARD
TZOFFSETFROM:+0000
TZOFFSETTO:+0000
TZNAME:UTC
DTSTART:20180101T000000
END:STANDARD
END:VTIMEZONE
BEGIN:VEVENT
DTSTART;TZID=America/New_York:20260324T140000
DTEND;TZID=America/New_York:20260324T153000
DTSTAMP:20260423T113046
CREATED:20260315T175431Z
LAST-MODIFIED:20260315T175431Z
UID:4059-1774360800-1774366200@njapza.org
SUMMARY:ADUs and Local Land Use: Planning\, Policy\, and the State Legislature
DESCRIPTION:
URL:https://njapza.org/event/adus-and-local-land-use-planning-policy-and-the-state-legislature/
LOCATION:Zoom Meeting
END:VEVENT
BEGIN:VEVENT
DTSTART;TZID=America/New_York:20260312T120000
DTEND;TZID=America/New_York:20260312T130000
DTSTAMP:20260423T113046
CREATED:20260309T190322Z
LAST-MODIFIED:20260309T190322Z
UID:4041-1773316800-1773320400@njapza.org
SUMMARY:Member Webinar: ADUs and Local Land Use: Planning\, Policy\, and the State Legislature
DESCRIPTION:
URL:https://njapza.org/event/member-webinar-adus-and-local-land-use-planning-policy-and-the-state-legislature/
LOCATION:Zoom Meeting
END:VEVENT
BEGIN:VEVENT
DTSTART;TZID=America/New_York:20251119T120000
DTEND;TZID=America/New_York:20251119T140000
DTSTAMP:20260423T113046
CREATED:20241004T141932Z
LAST-MODIFIED:20251113T174235Z
UID:3861-1763553600-1763560800@njapza.org
SUMMARY:2025 Annual Luncheon
DESCRIPTION:NJAPZA Annual Luncheon & Seminar\nWednesday\, November 19\, 2025\, 12-2 PM\nSheraton AC- Boulevards Café Room (located on the 2nd floor near The Shoe Bar)\nLunch Buffet\n  \nSession: Planning & Zoning Trivia with Peter Lupo\, Esq.\nPut your planning & zoning knowledge to the test in this fun and interactive educational session on all things land use! Prizes and bragging rights included!\n*Educational session is approved for 1 Technical CE Credit\n  \n\n \n\n  \n\nThe Annual Luncheon registration is now closed. Please reach out to the NJAPZA Executive Director\, Christina Schwartz\, directly with any requests for new registrations or to modify any existing registrations by email or by using the Contact Us function on the NJAPZA website.
URL:https://njapza.org/event/2025-annual-luncheon/
LOCATION:Sheraton Atlantic City Convention Center Hotel\, Two Convention Boulevard\, Atlantic City\, NJ\, 08401\, United States
ATTACH;FMTTYPE=image/jpeg:https://njapza.org/wp-content/uploads/2019/04/IMG_2468.jpg
END:VEVENT
BEGIN:VEVENT
DTSTART;TZID=America/New_York:20250930T140000
DTEND;TZID=America/New_York:20250930T150000
DTSTAMP:20260423T113046
CREATED:20240312T141005Z
LAST-MODIFIED:20250923T143242Z
UID:3767-1759240800-1759244400@njapza.org
SUMMARY:Member Webinar- An Overview of the State Development & Redevelopment Plan
DESCRIPTION:
URL:https://njapza.org/event/examples-of-municipal-tree-removal-replacement-ordinances-in-nj-what-qualifies/
LOCATION:Webinar
END:VEVENT
BEGIN:VEVENT
DTSTART;TZID=America/New_York:20250410T113000
DTEND;TZID=America/New_York:20250410T143000
DTSTAMP:20260423T113046
CREATED:20250320T005003Z
LAST-MODIFIED:20250321T123632Z
UID:3930-1744284600-1744295400@njapza.org
SUMMARY:Spring Fling 2025
DESCRIPTION:The Land Use Office: Navigating Its Role in the Greater Municipal Landscape\nEducational Session presented by Barry R. Lewis\, Jr.\nTownship Manager\, Livingston\nThursday\, April 10\,2025 11:30 AM- 2:30 PM\nRockaway River County Club Denville\, NJ\n  \n  \n1 Technical CE Credit \n  \nEvent sponsored by Mitchell Humphrey with a special giveaway to all attendees! \n 
URL:https://njapza.org/event/spring-fling-2025/
LOCATION:Rockaway River Country Club\, 39 Pocono Rd\,\, Denville\, New Jersey\, 07834
END:VEVENT
BEGIN:VEVENT
DTSTART;TZID=America/New_York:20240813T100000
DTEND;TZID=America/New_York:20240813T113000
DTSTAMP:20260423T113046
CREATED:20240726T143557Z
LAST-MODIFIED:20240726T143557Z
UID:3839-1723543200-1723548600@njapza.org
SUMMARY:Best Practices for Board Secretaries
DESCRIPTION:
URL:https://njapza.org/event/best-practices-for-board-secretaries/
LOCATION:Webinar
END:VEVENT
BEGIN:VEVENT
DTSTART;TZID=America/New_York:20240425T113000
DTEND;TZID=America/New_York:20240425T143000
DTSTAMP:20260423T113046
CREATED:20230218T030648Z
LAST-MODIFIED:20240402T124318Z
UID:3537-1714044600-1714055400@njapza.org
SUMMARY:Annual Spring Fling Luncheon & Educational Session
DESCRIPTION:Annual Spring Fling Luncheon & Educational Session\nThursday\, April 25 @ 11:30 am\nRockaway River County Club Denville\, NJ\nEvent Sponsored by Mitchell Humphrey\n \n \n 
URL:https://njapza.org/event/annual-spring-fling-luncheon-educational-session/
LOCATION:Rockaway River Country Club\, 39 Pocono Rd\,\, Denville\, New Jersey\, 07834
END:VEVENT
BEGIN:VEVENT
DTSTART;TZID=America/New_York:20240305T100000
DTEND;TZID=America/New_York:20240305T113000
DTSTAMP:20260423T113046
CREATED:20240226T172327Z
LAST-MODIFIED:20240226T172345Z
UID:3756-1709632800-1709638200@njapza.org
SUMMARY:3 Session Series - The NJDEP Model Ordinance & Municipal Tree Ordinances in NJ
DESCRIPTION:
URL:https://njapza.org/event/3-session-series-the-njdep-model-ordinance-municipal-tree-ordinances-in-nj/
LOCATION:Zoom Meeting
END:VEVENT
BEGIN:VEVENT
DTSTART;TZID=America/New_York:20240206T100000
DTEND;TZID=America/New_York:20240206T113000
DTSTAMP:20260423T113046
CREATED:20240126T204125Z
LAST-MODIFIED:20240126T204125Z
UID:3747-1707213600-1707219000@njapza.org
SUMMARY:Cracking the Code: Strengthening Communities Through Effective Code Enforcement
DESCRIPTION:  \n  \nCracking the Code: Strengthening Communities Through Effective Code Enforcement \nTuesday\, February 6\, 2024 \n10:00 – 11:30am \nFree to NJAPZA Members
URL:https://njapza.org/event/cracking-the-code-strengthening-communities-through-effective-code-enforcement/
LOCATION:Webinar
ATTACH;FMTTYPE=image/jpeg:https://njapza.org/wp-content/uploads/2023/02/chris-montgomery-smgTvepind4-unsplash-scaled.jpg
END:VEVENT
BEGIN:VEVENT
DTSTART;TZID=America/New_York:20231115T120000
DTEND;TZID=America/New_York:20231115T140000
DTSTAMP:20260423T113046
CREATED:20231003T222345Z
LAST-MODIFIED:20231108T202159Z
UID:3685-1700049600-1700056800@njapza.org
SUMMARY:NJAPZA Annual Luncheon & Seminar
DESCRIPTION:The event registration is closed. Please reach out to the NJAPZA Executive Director\, Christina Schwartz\, directly with any requests for new registrations or to modify any existing registrations by email or by using the Contact Us function on the website. \n  \n  \nWednesday\, November 15\, 2023\, 12-2 PM \nSheraton AC- Boulevards Café Room\, located on the 2nd floor \nSpeaker: Steve Warner\, Esq. presenting Land Use Hot Topics \n1 Technical CE Credit \n \n 
URL:https://njapza.org/event/njapza-annual-luncheon-seminar/
LOCATION:Sheraton AC- Boulevards Café Room\, located on the 2nd floor
END:VEVENT
BEGIN:VEVENT
DTSTART;TZID=America/New_York:20230817T100000
DTEND;TZID=America/New_York:20230817T120000
DTSTAMP:20260423T113046
CREATED:20230719T204544Z
LAST-MODIFIED:20230808T141351Z
UID:3653-1692266400-1692273600@njapza.org
SUMMARY:Nonconforming Uses & Conditional Uses
DESCRIPTION:Webinar: Nonconforming & Conditional Use Review for Land Use Professionals \n*Member ONLY Event- all current NJAPZA Members will receive 2 Technical CE Credits!* \nThursday\, August 17th from 10 am – noon \nRegister in advance for this webinar:\nhttps://us02web.zoom.us/webinar/register/WN_icf2x1m0SFqeu7kbp86WeA \n  \n* Please note: After registering\, your submission will be reviewed and approved by NJAPZA. Once your membership status is confirmed\, the webinar link will be sent to you via email from Zoom
URL:https://njapza.org/event/nonconforming-uses-conditional-uses/
LOCATION:Zoom Meeting
END:VEVENT
BEGIN:VEVENT
DTSTART;TZID=America/New_York:20230504T140000
DTEND;TZID=America/New_York:20230504T153000
DTSTAMP:20260423T113046
CREATED:20230501T152644Z
LAST-MODIFIED:20230501T153128Z
UID:3568-1683208800-1683214200@njapza.org
SUMMARY:An Introduction to Green Infrastructure & Stormwater Elements for Land Use Professionals
DESCRIPTION:  \n*Member ONLY Event- all current NJAPZA Members will receive 1.5 Technical CE Credits! \nThursday\, May 4th 2- 3:30 pm \nRegister in advance for this webinar: \nRegister
URL:https://njapza.org/event/an-introduction-to-green-infrastructure-stormwater-elements-for-land-use-professionals/
LOCATION:Webinar
END:VEVENT
BEGIN:VEVENT
DTSTART;TZID=America/New_York:20210223T140000
DTEND;TZID=America/New_York:20210223T153000
DTSTAMP:20260423T113046
CREATED:20210211T002918Z
LAST-MODIFIED:20210211T003416Z
UID:3380-1614088800-1614094200@njapza.org
SUMMARY:Lessons Learned from COVID: A Roadmap for Board Secretaries & New Virtual Challenges
DESCRIPTION:Register in advance for this webinar:\n\n \nSee Flier Here \n 
URL:https://njapza.org/event/lessons-learned-from-covid-a-roadmap-for-board-secretaries-new-virtual-challenges/
LOCATION:Zoom Meeting
ATTACH;FMTTYPE=image/jpeg:https://njapza.org/wp-content/uploads/2020/06/watercolor-795161_1280.jpg
END:VEVENT
BEGIN:VEVENT
DTSTART;TZID=America/New_York:20201118T120000
DTEND;TZID=America/New_York:20201118T120000
DTSTAMP:20260423T113046
CREATED:20201107T010832Z
LAST-MODIFIED:20201107T010832Z
UID:3323-1605700800-1605700800@njapza.org
SUMMARY:NJAPZA Annual Meeting 2020
DESCRIPTION:
URL:https://njapza.org/event/njapza-annual-meeting-2020/
LOCATION:Zoom Meeting
ATTACH;FMTTYPE=image/jpeg:https://njapza.org/wp-content/uploads/2020/07/corona-5006277_1280.jpg
END:VEVENT
BEGIN:VEVENT
DTSTART;TZID=America/New_York:20201023T140000
DTEND;TZID=America/New_York:20201023T153000
DTSTAMP:20260423T113046
CREATED:20201008T180101Z
LAST-MODIFIED:20201008T181050Z
UID:3287-1603461600-1603467000@njapza.org
SUMMARY:Rethinking Zoning Post-COVID: Parking
DESCRIPTION:Register in advance for this webinar:\n\n \nSee Flier Here \n 
URL:https://njapza.org/event/parking/
LOCATION:Zoom Meeting
ATTACH;FMTTYPE=image/jpeg:https://njapza.org/wp-content/uploads/2020/10/Session-4-Flyer_23OCT2020.jpg
END:VEVENT
BEGIN:VEVENT
DTSTART;TZID=America/New_York:20200924T140000
DTEND;TZID=America/New_York:20200924T153000
DTSTAMP:20260423T113046
CREATED:20200917T135044Z
LAST-MODIFIED:20200917T135855Z
UID:3262-1600956000-1600961400@njapza.org
SUMMARY:Rethinking Zoning Post-COVID: Vacancies & Redevelopment
DESCRIPTION:Register in advance for this webinar:\nhttps://us02web.zoom.us/webinar/register/WN_KlSbhnc_Q1GQJHHgTzM8qw\n \n\nSee Flier Here \n 
URL:https://njapza.org/event/vacancies-redevelopment/
LOCATION:Zoom Meeting
ATTACH;FMTTYPE=image/jpeg:https://njapza.org/wp-content/uploads/2020/09/Session-3-Save-the-Date-Session-Flyer-1.jpg
END:VEVENT
BEGIN:VEVENT
DTSTART;TZID=America/New_York:20200820T140000
DTEND;TZID=America/New_York:20200820T153000
DTSTAMP:20260423T113046
CREATED:20200809T211631Z
LAST-MODIFIED:20200814T165426Z
UID:3220-1597932000-1597937400@njapza.org
SUMMARY:Rethinking Zoning Post-COVID: Master Plan & Ordinance Development
DESCRIPTION:Register in advance for this webinar:\nhttps://us02web.zoom.us/webinar/register/WN_FseMgYUUQMmEsliJgQHPaQ\n \nSee Flier Here \n 
URL:https://njapza.org/event/rethinking-zoning-post-covid-master-plan-ordinance-development/
LOCATION:Zoom Meeting
ATTACH;FMTTYPE=image/jpeg:https://njapza.org/wp-content/uploads/2020/08/Correct-Version.jpg
END:VEVENT
BEGIN:VEVENT
DTSTART;TZID=America/New_York:20200728T110000
DTEND;TZID=America/New_York:20200728T120000
DTSTAMP:20260423T113046
CREATED:20200719T171032Z
LAST-MODIFIED:20200719T173244Z
UID:3194-1595934000-1595937600@njapza.org
SUMMARY:Rethinking Zoning Post Covid
DESCRIPTION:Register in advance for this webinar:\nhttps://us02web.zoom.us/webinar/register/WN_k4xM5S09SS6eBK2DB0EhLQ\n  \n \n  \nSee Flier Here \n 
URL:https://njapza.org/event/rethinking-zoning-post-covid/
LOCATION:Zoom Meeting
ATTACH;FMTTYPE=image/png:https://njapza.org/wp-content/uploads/2020/07/unamed-revised.png
END:VEVENT
BEGIN:VEVENT
DTSTART;TZID=America/New_York:20200507T110000
DTEND;TZID=America/New_York:20200507T120000
DTSTAMP:20260423T113046
CREATED:20200428T151156Z
LAST-MODIFIED:20200428T151156Z
UID:3106-1588849200-1588852800@njapza.org
SUMMARY:Webinar: Virtual Offices - Spaceships Not Required
DESCRIPTION:NJAPZA- Free Webinar for Current Members! \n  \nThis FREE Webinar* is limited to 100 participants. \n*Webinar is approved for 1 Technical CE Credit \n\nhttps://us02web.zoom.us/webinar/register/WN_uyJHgS0uQ62RBk4yZgerfw
URL:https://njapza.org/event/virtual-offices/
LOCATION:New Jersey
ATTACH;FMTTYPE=image/jpeg:https://njapza.org/wp-content/uploads/2020/02/image003-2.jpg
END:VEVENT
BEGIN:VEVENT
DTSTART;TZID=America/New_York:20200424T113000
DTEND;TZID=America/New_York:20200424T113000
DTSTAMP:20260423T113046
CREATED:20200225T132300Z
LAST-MODIFIED:20200319T124648Z
UID:3068-1587727800-1587727800@njapza.org
SUMMARY:NJAPZA Annual Spring Fling Luncheon & Educational Session
DESCRIPTION:THIS EVENT HAS BEEN POSTPONED \n×\nPOSTPONED\n \nDownload the flyer here \n  \nNJAPZA Annual Spring Fling Luncheon & Educational Session\nRockaway River Country Club Denville\, NJ\nFriday\, April 24\, 2020 at 11:30 a.m.\nAdditional Details & Registration Information to Follow
URL:https://njapza.org/event/spring-fling-2020/
LOCATION:Rockaway River Country Club\, 39 Pocono Rd\,\, Denville\, New Jersey\, 07834
END:VEVENT
BEGIN:VEVENT
DTSTART;TZID=America/New_York:20190809T113000
DTEND;TZID=America/New_York:20190809T143000
DTSTAMP:20260423T113046
CREATED:20190624T182424Z
LAST-MODIFIED:20190701T205855Z
UID:2602-1565350200-1565361000@njapza.org
SUMMARY:4th Annual Summer Seminar & Social
DESCRIPTION:Event: NJAPZA Summer Social\n \nVenue: The Lobster Shanty in Point Pleasant Beach \nDate: Friday\, August 9\,2019 at 11:30 a.m. \nSession Topic: \nGhost House & Renegade Properties: \nSeasonal Compliance Problems Plaguing Your Land Use Office \nSpeaker:  \nDavid Kois\, PP\, AICP\nHillsborough Twp. Business Advocate / Sustainability Director / Deputy Zoning Official \n  \nREGISTER BELOW\n\n	Notice: JavaScript is required for this content.
URL:https://njapza.org/event/summer-social-2019/
LOCATION:The Lobster Shanty\, Channel Drive\, Point Pleasant Beach\, NJ\, 08742\, United States
ATTACH;FMTTYPE=image/jpeg:https://njapza.org/wp-content/uploads/2019/06/PhotoEditor_20190624_142811717-e1561401343784.jpg
END:VEVENT
BEGIN:VEVENT
DTSTART;TZID=UTC:20190412T113000
DTEND;TZID=UTC:20190412T150000
DTSTAMP:20260423T113046
CREATED:20190317T181302Z
LAST-MODIFIED:20190326T154551Z
UID:2390-1555068600-1555081200@njapza.org
SUMMARY:From Farm to Zoning & Back
DESCRIPTION:The Event Speakers Will Be:\nDavid Kimmel – SADC Agricultural Resource Specialist \nBrian Smith\, Esq. – SADC Chief of Legal Affairs \n  \nDownload the Flyer Here\n  \n  \n\n	Notice: JavaScript is required for this content.\n\n\n    \n\n\n        \n        \n        \n 
URL:https://njapza.org/event/from-farm-to-zoning/
LOCATION:The Clinton House\, Two West Main Street\, Clinton\, NJ\, 08809\, United States
ATTACH;FMTTYPE=image/jpeg:https://njapza.org/wp-content/uploads/2019/03/NJAPZA_Right-to-Farm-Flyer-1.jpg
END:VEVENT
BEGIN:VEVENT
DTSTART;TZID=UTC:20190329T113000
DTEND;TZID=UTC:20190329T143000
DTSTAMP:20260423T113046
CREATED:20190117T224750Z
LAST-MODIFIED:20190311T210057Z
UID:2215-1553859000-1553869800@njapza.org
SUMMARY:Spring Fling 2019
DESCRIPTION:Spring Fling Luncheon and Seminar!\nFriday\, March 29\, 2019\n11:30am – 2:30pm\nRockaway River Country Club\n  \n“How To Handle Permit Exemptions – When Zoning/Historic Preservation is Still Needed” \nFirst 50 Registrants get a free giveaway! \nOne CE Credit \n  \nDownload the Flyer Here\n  \nEVENT SPONSORED BY:\n \n\n  \n  \nRegister Below! \n\n	Notice: JavaScript is required for this content.
URL:https://njapza.org/event/spring-fling-2019/
LOCATION:Rockaway River Country Club\, 39 Pocono Rd\, Denville\, New Jersey\, 07834
ATTACH;FMTTYPE=image/jpeg:https://njapza.org/wp-content/uploads/2019/01/Spring-Fling_Save-the-Date_16JAN2019-2.jpg
END:VEVENT
BEGIN:VEVENT
DTSTART;TZID=UTC:20181214T110000
DTEND;TZID=UTC:20181214T140000
DTSTAMP:20260423T113046
CREATED:20181106T033842Z
LAST-MODIFIED:20181206T200022Z
UID:596-1544785200-1544796000@njapza.org
SUMMARY:NJAPZA Holiday Seminar & Lunch
DESCRIPTION:Event Details: \nNJAPZA Holiday Luncheon & Seminar\nFriday\, December 14\, 2018 at 11 A.M. \nMaggiano’s Little Italy Bridgewater\, NJ \n  \nGuest Speaker: \nJames J. Kinneally\, III\, Esq. \n  \nThose Pesky Minors/Amendments/Revisions – When is it Just a New Application? And The Dunbar Homes Decision* \n*Educational session is approved for 2 Technical CE credits from Rutgers \n  \nCost:\n$45 pp for NJAPZA members          \n$55 pp for non-members \n  \n  \nREGISTRATION FOR THIS EVENT IS NOW CLOSED.\n 
URL:https://njapza.org/event/holiday-seminar/
LOCATION:Maggiano’s Little Italy\, 600 Commons Way bldg E\, Bridgewater\, NJ\, 08807
ATTACH;FMTTYPE=image/jpeg:https://njapza.org/wp-content/uploads/2018/11/NJAPZA-Holiday-Party-Flyer.jpg
END:VEVENT
BEGIN:VEVENT
DTSTART;TZID=UTC:20181114T120000
DTEND;TZID=UTC:20181114T120000
DTSTAMP:20260423T113046
CREATED:20180912T234025Z
LAST-MODIFIED:20181009T213004Z
UID:408-1542196800-1542196800@njapza.org
SUMMARY:Annual Luncheon
DESCRIPTION:The Event Speaker Will Be Kevin Hagan.\nView the Event Flyer Here\n  \n  \n  \n\n	Notice: JavaScript is required for this content.\n\n\n    \n\n\n        \n        \n        \n 
URL:https://njapza.org/event/2018-annual-luncheon/
LOCATION:Caesars Atlantic City\, 2100 Pacific Ave\, Atlantic City\, NJ\, 08401
ATTACH;FMTTYPE=image/png:https://njapza.org/wp-content/uploads/2018/08/NJAPZA-Annual-Luncheon-Save-the-Date-banner.png
END:VEVENT
BEGIN:VEVENT
DTSTART;VALUE=DATE:20180817
DTEND;VALUE=DATE:20180818
DTSTAMP:20260423T113046
CREATED:20180109T100922Z
LAST-MODIFIED:20180716T022327Z
UID:41-1534464000-1534550399@njapza.org
SUMMARY:Summer Seminar & Social Event!
DESCRIPTION:Event Details:            \nEthics in Government: Not an Oxymoron\nHow to deal with ethical dilemmas and challenges in Planning and Land Use\nNJAPZA Educational Event & Social* \nFriday\, August 17\, 2018 from 11:30 a.m.- 3 p.m. \nAqua Blu Restaurant- 3410 NJ-37 Toms River\, NJ 08753 \nLunch will be served \n*Educational session is approved for 2 CE credits from Rutgers  \n                                                                                                                                                                                            Guest Speaker:  \nSusan Jacobucci \nAdministrator\, Borough of Paulsboro \n  \nEvent Schedule: \n11:30 a.m. –12 p.m.- Event check-in & networking \n12 – 1 p.m.- Lunch service & announcements \n1 – 3 p.m.- Educational presentation \n  \nCost: \n$45 pp for NJAPZA members \n$55 pp for non-members \n  \nRegistration involves a two-step process:   \n(1) Complete the registration form online to reserve your space \n(2) Send your check made payable to NJAPZA along with a copy of the registration form (provided after online registration) to: \n  \nDavid Kois\, NJAPZA Treasurer\, PO Box 7186 Hillsborough\, NJ 08844 \n*Please see attached invoice with pre-signed certification– sending your PO or voucher for signature is NOT required. \n  \n\n	Notice: JavaScript is required for this content.
URL:https://njapza.org/event/summer-seminar-social-event/
LOCATION:Aqua Blu Restaurant\, 3410 NJ-37\, Toms River\, NJ\, 08753\, United States
ATTACH;FMTTYPE=image/png:https://njapza.org/wp-content/uploads/2018/06/NJAPZA-Summer-Social-Save-the-Date_27JUN2018-1-e1530233245105.png
END:VEVENT
END:VCALENDAR